BEGIN:VCALENDAR
VERSION:2.0
PRODID:-//Alzheimer Gesellschaft Münster e.V. - ECPv4.8.2//NONSGML v1.0//EN
CALSCALE:GREGORIAN
METHOD:PUBLISH
X-WR-CALNAME:Alzheimer Gesellschaft Münster e.V.
X-ORIGINAL-URL:https://alzheimer-muenster.de
X-WR-CALDESC:Veranstaltungen im Alzheimer Gesellschaft Münster e.V.
BEGIN:VEVENT
DTSTART;TZID=UTC+0:20190905T193000
DTEND;TZID=UTC+0:20190905T213000
DTSTAMP:20260420T124606
CREATED:20190828T152554Z
LAST-MODIFIED:20190828T152554Z
UID:2561-1567711800-1567719000@alzheimer-muenster.de
SUMMARY:Ernährung bei Demenz
DESCRIPTION:xxx \n
URL:https://alzheimer-muenster.de/veranstaltung/ernaehrung-bei-demenz/
LOCATION:Gartensaal Friederike-Fliedner-Haus\, Coerdestr. 56\, Münster\, 48147
END:VEVENT
END:VCALENDAR