BEGIN:VCALENDAR
VERSION:2.0
PRODID:-//Alzheimer Gesellschaft Münster e.V. - ECPv4.8.2//NONSGML v1.0//EN
CALSCALE:GREGORIAN
METHOD:PUBLISH
X-WR-CALNAME:Alzheimer Gesellschaft Münster e.V.
X-ORIGINAL-URL:https://alzheimer-muenster.de
X-WR-CALDESC:Veranstaltungen im Alzheimer Gesellschaft Münster e.V.
BEGIN:VEVENT
DTSTART;TZID=UTC+0:20190915T150000
DTEND;TZID=UTC+0:20190915T150000
DTSTAMP:20260420T130730
CREATED:20190909T082022Z
LAST-MODIFIED:20190909T082022Z
UID:2606-1568559600-1568559600@alzheimer-muenster.de
SUMMARY:Exclusive Filmvorführung
DESCRIPTION:Im Dezember läuft der Film „Romy Salon“ in den deutschen Kinos an. Anlässlich der Woche der Demenz hat der Filmverleih exclusiv den regionalen Alzheimer Gesellschaften die Möglichkeit geboten den Film als Preview vorab zu zeigen. \nIn Münster ist das am Sonntag\, 15.9.2019\, 15.00 Uhr im SchloßtheaterS \n
URL:https://alzheimer-muenster.de/veranstaltung/exclusive-filmvorfuehrung/
LOCATION:Schlosstheater Münster\, Melcherstr.\, Melcherstr.\, Münster
END:VEVENT
END:VCALENDAR