BEGIN:VCALENDAR
VERSION:2.0
PRODID:-//Alzheimer Gesellschaft Münster e.V. - ECPv4.8.2//NONSGML v1.0//EN
CALSCALE:GREGORIAN
METHOD:PUBLISH
X-WR-CALNAME:Alzheimer Gesellschaft Münster e.V.
X-ORIGINAL-URL:https://alzheimer-muenster.de
X-WR-CALDESC:Veranstaltungen im Alzheimer Gesellschaft Münster e.V.
BEGIN:VEVENT
DTSTART;TZID=UTC+0:20201208T193000
DTEND;TZID=UTC+0:20201208T193000
DTSTAMP:20260420T143113
CREATED:20191203T085810Z
LAST-MODIFIED:20191203T085810Z
UID:2671-1607455800-1607455800@alzheimer-muenster.de
SUMMARY:Gesprächskreis für pflegende Angehörige
DESCRIPTION:Am 2. Dienstag im Monat treffen sich Angehörige von Menschen mit Demenz zu einem offenen Erfahrungsaustausch mit anderen Angehörigen zur Selbsthilfe. \nSie sind herzlich willkommen\, eine Anmeldung ist nicht erforderlich. \n
URL:https://alzheimer-muenster.de/veranstaltung/gespraechskreis-fuer-pflegende-angehoerige-16/
LOCATION:Altes Backhaus\, Coerdestr. 36 a\, Münster
END:VEVENT
END:VCALENDAR