BEGIN:VCALENDAR
VERSION:2.0
PRODID:-//Alzheimer Gesellschaft Münster e.V. - ECPv4.8.2//NONSGML v1.0//EN
CALSCALE:GREGORIAN
METHOD:PUBLISH
X-WR-CALNAME:Alzheimer Gesellschaft Münster e.V.
X-ORIGINAL-URL:https://alzheimer-muenster.de
X-WR-CALDESC:Veranstaltungen im Alzheimer Gesellschaft Münster e.V.
BEGIN:VEVENT
DTSTART;TZID=UTC+0:20191112T193000
DTEND;TZID=UTC+0:20191112T213000
DTSTAMP:20260420T125204
CREATED:20190910T091111Z
LAST-MODIFIED:20190910T091111Z
UID:2614-1573587000-1573594200@alzheimer-muenster.de
SUMMARY:Gesprächskreis für pflegende Angehörige
DESCRIPTION:Am 2. Dienstag im Monat treffen sich Angehörige von Menschen mit Demenz zu einem offenen Erfahrungsaustausch mit anderen Angehörigen zur Selbsthilfe. \nSie sind herzlich eingeladen\, eine Anmeldung ist nicht erforderlich. \n
URL:https://alzheimer-muenster.de/veranstaltung/gespraechskreis-fuer-pflegende-angehoerige-2/
LOCATION:Altes Backhaus\, Coerdestr. 36 a\, Münster
END:VEVENT
END:VCALENDAR