BEGIN:VCALENDAR
VERSION:2.0
PRODID:-//Alzheimer Gesellschaft Münster e.V. - ECPv4.8.2//NONSGML v1.0//EN
CALSCALE:GREGORIAN
METHOD:PUBLISH
X-WR-CALNAME:Alzheimer Gesellschaft Münster e.V.
X-ORIGINAL-URL:https://alzheimer-muenster.de
X-WR-CALDESC:Veranstaltungen im Alzheimer Gesellschaft Münster e.V.
BEGIN:VEVENT
DTSTART;TZID=UTC+0:20191008T193000
DTEND;TZID=UTC+0:20191008T213000
DTSTAMP:20260420T124606
CREATED:20190910T090622Z
LAST-MODIFIED:20190910T090622Z
UID:2611-1570563000-1570570200@alzheimer-muenster.de
SUMMARY:Gesprächskreis für pflegende Angehörige
DESCRIPTION:An jedem 2. Dienstag im Monat treffen sich Angehörige von Menschen mit Demenz und tauschen sich miteinander aus. Dies ist ein offener Erfahrungsaustausch zur Selbsthilfe. \nSie sind herzlich willkommen\, eine Anmeldung ist nicht erforderlicj \n
URL:https://alzheimer-muenster.de/veranstaltung/gespraechskreis-fuer-pflegende-angehoerige/
LOCATION:Altes Backhaus\, Coerdestr. 36 a\, Münster
END:VEVENT
END:VCALENDAR