BEGIN:VCALENDAR
VERSION:2.0
PRODID:-//Alzheimer Gesellschaft Münster e.V. - ECPv4.8.2//NONSGML v1.0//EN
CALSCALE:GREGORIAN
METHOD:PUBLISH
X-WR-CALNAME:Alzheimer Gesellschaft Münster e.V.
X-ORIGINAL-URL:https://alzheimer-muenster.de
X-WR-CALDESC:Veranstaltungen im Alzheimer Gesellschaft Münster e.V.
BEGIN:VEVENT
DTSTART;TZID=UTC+0:20190108T193000
DTEND;TZID=UTC+0:20190108T193000
DTSTAMP:20260420T150433
CREATED:20190306T204609Z
LAST-MODIFIED:20190306T204609Z
UID:2384-1546975800-1546975800@alzheimer-muenster.de
SUMMARY:Gesprächskreis
DESCRIPTION:Altes Backhaus\, Coerdestr. 36 a\, Münster\, 19.30 Uhr \nSie sind herzlich eingeladen\, eine Anmeldung ist nicht erforderlich \n
URL:https://alzheimer-muenster.de/veranstaltung/gespraechskreis/
END:VEVENT
END:VCALENDAR