BEGIN:VCALENDAR
VERSION:2.0
PRODID:-//Alzheimer Gesellschaft Münster e.V. - ECPv4.8.2//NONSGML v1.0//EN
CALSCALE:GREGORIAN
METHOD:PUBLISH
X-WR-CALNAME:Alzheimer Gesellschaft Münster e.V.
X-ORIGINAL-URL:https://alzheimer-muenster.de
X-WR-CALDESC:Veranstaltungen im Alzheimer Gesellschaft Münster e.V.
BEGIN:VEVENT
DTSTART;TZID=UTC+0:20250610T193000
DTEND;TZID=UTC+0:20250610T210000
DTSTAMP:20260420T082059
CREATED:20250115T161635Z
LAST-MODIFIED:20250115T161635Z
UID:3564-1749583800-1749589200@alzheimer-muenster.de
SUMMARY:Offener Gesprächskreis für Angehörige von demenziell erkrankten Menschen im Alten Backhaus
DESCRIPTION:Die Pflege und Betreuung eines Menschen mit Demenz stellt Angehörige vor körperliche und psychische Belastungen. Um sich gegenseitig zu helfen und auszutauschen bietet die Alzheimer Gesellschaft Münster e.V. an jedem zweiten Dienstag im Monat einen offenen Gesprächskreis im Alten Backhaus\, Coerdestr. 36A an. Interessierte sind herzlich willkommen. Rückfragen beantwortet Aaron Schrade in der Geschäftsstelle der Alzheimer Gesellschaft Münster e.V. unter 0251 780397. \n
URL:https://alzheimer-muenster.de/veranstaltung/offener-gespraechskreis-fuer-angehoerige-von-demenziell-erkrankten-menschen-im-alten-backhaus-10/
LOCATION:Altes Backhaus\, Coerdestr. 36 a\, Münster
END:VEVENT
END:VCALENDAR