BEGIN:VCALENDAR
VERSION:2.0
PRODID:-//Alzheimer Gesellschaft Münster e.V. - ECPv4.8.2//NONSGML v1.0//EN
CALSCALE:GREGORIAN
METHOD:PUBLISH
X-WR-CALNAME:Alzheimer Gesellschaft Münster e.V.
X-ORIGINAL-URL:https://alzheimer-muenster.de
X-WR-CALDESC:Veranstaltungen im Alzheimer Gesellschaft Münster e.V.
BEGIN:VEVENT
DTSTART;TZID=UTC+0:20191007T180000
DTEND;TZID=UTC+0:20191007T193000
DTSTAMP:20260420T142201
CREATED:20190925T083653Z
LAST-MODIFIED:20190925T083653Z
UID:2623-1570471200-1570476600@alzheimer-muenster.de
SUMMARY:Patientenverfügung/Vorsorgevollmacht
DESCRIPTION:Als Fachleute werden Mitglieder des Arbeitskreises Patientenverfügung der Hospizbewegung Münster e.V. erwartet. Nach dem Fachvortrag haben Sie die Möglichkeit\, Fragen zu stellen und sich bei einem kleinen Imbiss miteinander auszutauschen \nEintritt ist frei\, Anmeldung bis 30.Oktober \n
URL:https://alzheimer-muenster.de/veranstaltung/patientenverfuegung-vorsorgevollmacht/
LOCATION:Kontaktbüro Pflegeselbsthilfe\, Dahlweg 112\, 48153 Münster
END:VEVENT
END:VCALENDAR