BEGIN:VCALENDAR
VERSION:2.0
PRODID:-//Alzheimer Gesellschaft Münster e.V. - ECPv4.8.2//NONSGML v1.0//EN
CALSCALE:GREGORIAN
METHOD:PUBLISH
X-WR-CALNAME:Alzheimer Gesellschaft Münster e.V.
X-ORIGINAL-URL:https://alzheimer-muenster.de
X-WR-CALDESC:Veranstaltungen im Alzheimer Gesellschaft Münster e.V.
BEGIN:VEVENT
DTSTART;TZID=UTC+0:20221107T180000
DTEND;TZID=UTC+0:20221107T193000
DTSTAMP:20260420T093525
CREATED:20220927T162519Z
LAST-MODIFIED:20220927T162519Z
UID:3151-1667844000-1667849400@alzheimer-muenster.de
SUMMARY:Was sind die Besonderheiten der Depression im Alter?
DESCRIPTION:Infoveranstaltung als Online-Video-Konferenz \nfür pflegende Angehörige und Interessierte \nWas sind die Besonderheiten der Depression im Alter?\nMontag\, 7.11.2022\, 18:00 – 19:30h \nReferent: Dr. Tilman Fey\, Gerontopsychiater und 1. Vorsitzender Alzheimer Gesellschaft Münster e. V. \nDie „dunkle“ Jahreszeit kann das ein oder andere Mal mit einer gedrückten Stimmung einhergehen. Doch wann handelt es sich um eine Depression? Die Veranstaltung soll informieren über die verschiedenen Symptome\, die Ursachen\, das richtige und zielführende diagnostische Vorgehen und über die derzeit zur Verfügung stehenden therapeutischen Möglichkeiten. \nNach dem Referat mit einer Einführung in das Thema soll vor allem auf die Fragen und Interessen der Teilnehmenden eingegangen werden. \nAnmeldung bis zum 4.11.2022 an: Alzheimer Gesellschaft Münster e. V.\, Aaron Schrade\, 0251 – 780 397\, alz-ges@muenster.de \nNach erfolgter Anmeldung erhalten Sie eine Einladungs-E-Mail mit einer Anleitung zur Teilnahme an der Online-Video-Konferenz. \nAushang Online-Veranstaltung 7.11.2022 Altersdepression_final \n
URL:https://alzheimer-muenster.de/veranstaltung/was-sind-die-besonderheiten-der-depression-im-alter/
END:VEVENT
END:VCALENDAR